BEGIN:VCALENDAR
VERSION:2.0
PRODID:-//Tukios.com/
BEGIN:VEVENT
UID:8c31dae5-6ca0-46a2-935c-0bc0e3f1da30@www.cannonfuneral.com
DTSTAMP:20260422T015431Z
DTSTART:20260427T143000Z
DTEND:20260427T153000Z
SUMMARY:Prayer Service
DESCRIPTION:
URL:https://www.cannonfuneral.com/obituaries/ronald-kolber
LOCATION: 2020 Central Ave  Colonie NY 12205
GEO:42.7458534;-73.8657186
END:VEVENT
END:VCALENDAR