BEGIN:VCALENDAR
VERSION:2.0
PRODID:-//Tukios.com/
BEGIN:VEVENT
UID:211300cd-ff7c-444f-a278-74b41b38f277@www.cannonfuneral.com
DTSTAMP:20260422T020221Z
DTSTART:20260426T170000Z
DTEND:20260426T200000Z
SUMMARY:Visitation
DESCRIPTION:
URL:https://www.cannonfuneral.com/obituaries/ronald-kolber
LOCATION: 2020 Central Ave  Colonie NY 12205
GEO:42.7458534;-73.8657186
END:VEVENT
END:VCALENDAR