BEGIN:VCALENDAR
VERSION:2.0
PRODID:-//Tukios.com/
BEGIN:VEVENT
UID:a38f01ef-0fea-4b9a-9c30-c5a22aaae33e@www.cannonfuneral.com
DTSTAMP:20260425T213115Z
DTSTART:20260430T150000Z
DTEND:20260430T160000Z
SUMMARY:Funeral Service
DESCRIPTION:
URL:https://www.cannonfuneral.com/obituaries/robert-flood
LOCATION: 2020 Central Ave  Colonie NY 12205
GEO:42.7458534;-73.8657186
END:VEVENT
END:VCALENDAR