BEGIN:VCALENDAR
VERSION:2.0
PRODID:-//Tukios.com/
BEGIN:VEVENT
UID:72b69be4-1a61-48c9-bc6f-b9945b0a8fa4@www.cannonfuneral.com
DTSTAMP:20260424T235641Z
DTSTART:20260428T150000Z
DTEND:20260428T160000Z
SUMMARY:Graveside Service
DESCRIPTION:
URL:https://www.cannonfuneral.com/obituaries/patricia-guyette
LOCATION:Albany Rural Cemetery 3 Cemetery Avenue  Albany NY 12204
GEO:42.7075023;-73.7323645
END:VEVENT
END:VCALENDAR