BEGIN:VCALENDAR
VERSION:2.0
PRODID:-//Tukios.com/
BEGIN:VEVENT
UID:c648fb19-aa3c-41e2-a8ed-565ef25202da@www.cannonfuneral.com
DTSTAMP:20260423T165513Z
DTSTART:20260428T160000Z
DTEND:20260428T170000Z
SUMMARY:Funeral Service
DESCRIPTION:
URL:https://www.cannonfuneral.com/obituaries/betty-groff
LOCATION: 2020 Central Ave  Colonie NY 12205
GEO:42.7458534;-73.8657186
END:VEVENT
END:VCALENDAR