BEGIN:VCALENDAR
VERSION:2.0
PRODID:-//Tukios.com/
BEGIN:VEVENT
UID:85591386-03c1-4018-bcc5-d7f2f0fe3c85@www.cannonfuneral.com
DTSTAMP:20260423T165447Z
DTSTART:20260428T140000Z
DTEND:20260428T160000Z
SUMMARY:Visitation
DESCRIPTION:
URL:https://www.cannonfuneral.com/obituaries/betty-groff
LOCATION: 2020 Central Ave  Colonie NY 12205
GEO:42.7458534;-73.8657186
END:VEVENT
END:VCALENDAR