BEGIN:VCALENDAR
VERSION:2.0
PRODID:-//Tukios.com/
BEGIN:VEVENT
UID:993163a0-55bf-434e-9ed1-3c22343671ef@www.cannonfuneral.com
DTSTAMP:20260422T205630Z
DTSTART:20260425T140000Z
DTEND:20260425T160000Z
SUMMARY:Visitation
DESCRIPTION:
URL:https://www.cannonfuneral.com/obituaries/barbara-spinelli
LOCATION:St. Pius X Church 23 Crumitie Road  Loudonville NY 12211
GEO:42.695588;-73.761528
END:VEVENT
END:VCALENDAR